Package: IdeoViz Version: 1.46.0 Command: rm -rf IdeoViz.buildbin-libdir && mkdir IdeoViz.buildbin-libdir && /Users/biocbuild/BBS/utils/build-universal.sh IdeoViz_1.46.0.tar.gz /Library/Frameworks/R.framework/Resources/bin/R IdeoViz.buildbin-libdir StartedAt: 2025-11-18 15:43:12 -0500 (Tue, 18 Nov 2025) EndedAt: 2025-11-18 15:43:28 -0500 (Tue, 18 Nov 2025) EllapsedTime: 16.2 seconds RetCode: 0 Status: OK PackageFile: IdeoViz_1.46.0.tgz PackageFileSize: 450.7 KiB