Package: Icens Version: 1.81.0 Command: /home/biocbuild/R/R/bin/R CMD INSTALL Icens StartedAt: 2025-10-16 21:22:43 -0000 (Thu, 16 Oct 2025) EndedAt: 2025-10-16 21:23:01 -0000 (Thu, 16 Oct 2025) EllapsedTime: 18.5 seconds RetCode: 0 Status: OK