Package: Icens Version: 1.81.0 Command: F:\biocbuild\bbs-3.22-bioc\R\bin\R.exe CMD check --no-multiarch --install=check:Icens.install-out.txt --library=F:\biocbuild\bbs-3.22-bioc\R\library --no-vignettes --timings Icens_1.81.0.tar.gz StartedAt: 2025-08-15 04:15:05 -0400 (Fri, 15 Aug 2025) EndedAt: 2025-08-15 04:15:59 -0400 (Fri, 15 Aug 2025) EllapsedTime: 54.1 seconds RetCode: 0 Status: OK CheckDir: Icens.Rcheck Warnings: 0