Package: Icens Version: 1.81.0 Command: rm -rf Icens.buildbin-libdir && mkdir Icens.buildbin-libdir && F:\biocbuild\bbs-3.22-bioc\R\bin\R.exe CMD INSTALL --build --library=Icens.buildbin-libdir Icens_1.81.0.tar.gz StartedAt: 2025-08-15 10:29:28 -0400 (Fri, 15 Aug 2025) EndedAt: 2025-08-15 10:29:52 -0400 (Fri, 15 Aug 2025) EllapsedTime: 24.2 seconds RetCode: 0 Status: OK PackageFile: Icens_1.81.0.zip PackageFileSize: 112.4 KiB