Package: Icens Version: 1.81.0 Command: /home/biocbuild/bbs-3.22-bioc/R/bin/R CMD INSTALL Icens StartedAt: 2025-10-21 15:14:15 -0400 (Tue, 21 Oct 2025) EndedAt: 2025-10-21 15:14:24 -0400 (Tue, 21 Oct 2025) EllapsedTime: 9.6 seconds RetCode: 0 Status: OK