Package: Icens Version: 1.81.0 Command: /Library/Frameworks/R.framework/Resources/bin/R CMD INSTALL Icens StartedAt: 2025-10-23 15:13:47 -0400 (Thu, 23 Oct 2025) EndedAt: 2025-10-23 15:14:06 -0400 (Thu, 23 Oct 2025) EllapsedTime: 18.9 seconds RetCode: 0 Status: OK