Package: Icens Version: 1.81.0 Command: /Library/Frameworks/R.framework/Resources/bin/R CMD build --keep-empty-dirs --no-resave-data Icens StartedAt: 2025-10-23 17:20:38 -0400 (Thu, 23 Oct 2025) EndedAt: 2025-10-23 17:20:40 -0400 (Thu, 23 Oct 2025) EllapsedTime: 2.3 seconds RetCode: 0 Status: OK PackageFile: Icens_1.81.0.tar.gz PackageFileSize: 20.83 KiB