Package: Icens Version: 1.81.0 Command: /Library/Frameworks/R.framework/Resources/bin/R CMD INSTALL Icens StartedAt: 2025-10-24 15:09:11 -0400 (Fri, 24 Oct 2025) EndedAt: 2025-10-24 15:09:14 -0400 (Fri, 24 Oct 2025) EllapsedTime: 3.4 seconds RetCode: 0 Status: OK