Package: Icens Version: 1.81.0 Command: rm -rf Icens.buildbin-libdir && mkdir Icens.buildbin-libdir && /Users/biocbuild/BBS/utils/build-universal.sh Icens_1.81.0.tar.gz /Library/Frameworks/R.framework/Resources/bin/R Icens.buildbin-libdir StartedAt: 2025-10-23 23:13:09 -0400 (Thu, 23 Oct 2025) EndedAt: 2025-10-23 23:13:12 -0400 (Thu, 23 Oct 2025) EllapsedTime: 3.1 seconds RetCode: 0 Status: OK PackageFile: Icens_1.81.0.tgz PackageFileSize: 111 KiB