Package: Ibex Version: 0.99.34 Command: /home/biocbuild/R/R/bin/R CMD INSTALL Ibex StartedAt: 2025-10-20 20:38:16 -0000 (Mon, 20 Oct 2025) EndedAt: 2025-10-20 20:39:02 -0000 (Mon, 20 Oct 2025) EllapsedTime: 45.5 seconds RetCode: 0 Status: OK