############################################################################## ############################################################################## ### ### Running command: ### ### /home/biocbuild/R/R/bin/R CMD build --keep-empty-dirs --no-resave-data Ibex ### ############################################################################## ############################################################################## * checking for file ‘Ibex/DESCRIPTION’ ... OK * preparing ‘Ibex’: * checking DESCRIPTION meta-information ... OK * installing the package to build vignettes * creating vignettes ...