Package: Ibex Version: 0.99.34 Command: /Library/Frameworks/R.framework/Resources/bin/R CMD INSTALL Ibex StartedAt: 2025-10-23 15:26:25 -0400 (Thu, 23 Oct 2025) EndedAt: 2025-10-23 15:27:09 -0400 (Thu, 23 Oct 2025) EllapsedTime: 43.9 seconds RetCode: 0 Status: OK