Package: Ibex Version: 0.99.34 Command: /Library/Frameworks/R.framework/Resources/bin/R CMD INSTALL Ibex StartedAt: 2025-10-21 15:15:45 -0400 (Tue, 21 Oct 2025) EndedAt: 2025-10-21 15:15:58 -0400 (Tue, 21 Oct 2025) EllapsedTime: 12.7 seconds RetCode: 0 Status: OK