Package: Ibex Version: 0.99.34 Command: /Library/Frameworks/R.framework/Resources/bin/R CMD check --install=check:Ibex.install-out.txt --library=/Library/Frameworks/R.framework/Resources/library --no-vignettes --timings Ibex_0.99.34.tar.gz StartedAt: 2025-10-21 20:15:22 -0400 (Tue, 21 Oct 2025) EndedAt: 2025-10-21 20:21:03 -0400 (Tue, 21 Oct 2025) EllapsedTime: 341.1 seconds RetCode: 0 Status: OK CheckDir: Ibex.Rcheck Warnings: 0