Package: Ibex Version: 0.99.34 Command: /Library/Frameworks/R.framework/Resources/bin/R CMD build --keep-empty-dirs --no-resave-data Ibex StartedAt: 2025-10-21 16:44:50 -0400 (Tue, 21 Oct 2025) EndedAt: 2025-10-21 16:45:59 -0400 (Tue, 21 Oct 2025) EllapsedTime: 68.8 seconds RetCode: 0 Status: OK PackageFile: Ibex_0.99.34.tar.gz PackageFileSize: 4.062 MiB