Package: Ibex Version: 0.99.34 Command: rm -rf Ibex.buildbin-libdir && mkdir Ibex.buildbin-libdir && /Users/biocbuild/BBS/utils/build-universal.sh Ibex_0.99.34.tar.gz /Library/Frameworks/R.framework/Resources/bin/R Ibex.buildbin-libdir StartedAt: 2025-10-21 23:04:31 -0400 (Tue, 21 Oct 2025) EndedAt: 2025-10-21 23:04:45 -0400 (Tue, 21 Oct 2025) EllapsedTime: 14.3 seconds RetCode: 0 Status: OK PackageFile: Ibex_0.99.34.tgz PackageFileSize: 1.225 MiB