Package: IWTomics Version: 1.33.0 Command: /home/biocbuild/R/R/bin/R CMD INSTALL IWTomics StartedAt: 2025-10-16 21:46:07 -0000 (Thu, 16 Oct 2025) EndedAt: 2025-10-16 21:46:31 -0000 (Thu, 16 Oct 2025) EllapsedTime: 23.5 seconds RetCode: 0 Status: OK