Package: IWTomics Version: 1.33.0 Command: /home/biocbuild/R/R/bin/R CMD build --keep-empty-dirs --no-resave-data IWTomics StartedAt: 2025-10-17 02:08:32 -0000 (Fri, 17 Oct 2025) EndedAt: 2025-10-17 02:11:22 -0000 (Fri, 17 Oct 2025) EllapsedTime: 170.1 seconds RetCode: 0 Status: OK PackageFile: IWTomics_1.33.0.tar.gz PackageFileSize: 1.388 MiB