Package: IWTomics Version: 1.33.0 Command: /home/biocbuild/bbs-3.22-bioc/R/bin/R CMD build --keep-empty-dirs --no-resave-data --md5 IWTomics StartedAt: 2025-10-20 18:14:58 -0400 (Mon, 20 Oct 2025) EndedAt: 2025-10-20 18:16:38 -0400 (Mon, 20 Oct 2025) EllapsedTime: 100.1 seconds RetCode: 0 Status: OK PackageFile: IWTomics_1.33.0.tar.gz PackageFileSize: 1.407 MiB