Package: IWTomics Version: 1.33.0 Command: /Library/Frameworks/R.framework/Resources/bin/R CMD build --keep-empty-dirs --no-resave-data IWTomics StartedAt: 2025-10-21 17:51:10 -0400 (Tue, 21 Oct 2025) EndedAt: 2025-10-21 17:53:50 -0400 (Tue, 21 Oct 2025) EllapsedTime: 159.8 seconds RetCode: 0 Status: OK PackageFile: IWTomics_1.33.0.tar.gz PackageFileSize: 1.4 MiB