Package: IWTomics Version: 1.33.0 Command: rm -rf IWTomics.buildbin-libdir && mkdir IWTomics.buildbin-libdir && /Users/biocbuild/BBS/utils/build-universal.sh IWTomics_1.33.0.tar.gz /Library/Frameworks/R.framework/Resources/bin/R IWTomics.buildbin-libdir StartedAt: 2025-10-23 01:39:02 -0400 (Thu, 23 Oct 2025) EndedAt: 2025-10-23 01:39:29 -0400 (Thu, 23 Oct 2025) EllapsedTime: 26.7 seconds RetCode: 0 Status: OK PackageFile: IWTomics_1.33.0.tgz PackageFileSize: 1.777 MiB