Package: ITALICS Version: 2.69.0 Command: /home/biocbuild/bbs-3.22-bioc/R/bin/R CMD INSTALL ITALICS StartedAt: 2025-10-19 15:59:53 -0400 (Sun, 19 Oct 2025) EndedAt: 2025-10-19 16:00:18 -0400 (Sun, 19 Oct 2025) EllapsedTime: 25.7 seconds RetCode: 0 Status: OK