Package: ITALICS Version: 2.69.0 Command: /home/biocbuild/bbs-3.22-bioc/R/bin/R CMD build --keep-empty-dirs --no-resave-data --md5 ITALICS StartedAt: 2025-10-19 18:18:37 -0400 (Sun, 19 Oct 2025) EndedAt: 2025-10-19 18:19:28 -0400 (Sun, 19 Oct 2025) EllapsedTime: 51.1 seconds RetCode: 0 Status: OK PackageFile: ITALICS_2.69.0.tar.gz PackageFileSize: 617.6 KiB