Package: ITALICS Version: 2.69.0 Command: /Library/Frameworks/R.framework/Resources/bin/R CMD INSTALL ITALICS StartedAt: 2025-10-20 15:47:59 -0400 (Mon, 20 Oct 2025) EndedAt: 2025-10-20 15:48:35 -0400 (Mon, 20 Oct 2025) EllapsedTime: 35.4 seconds RetCode: 0 Status: OK