Package: ITALICS Version: 2.69.0 Command: rm -rf ITALICS.buildbin-libdir && mkdir ITALICS.buildbin-libdir && /Users/biocbuild/BBS/utils/build-universal.sh ITALICS_2.69.0.tar.gz /Library/Frameworks/R.framework/Resources/bin/R ITALICS.buildbin-libdir StartedAt: 2025-10-20 03:15:32 -0400 (Mon, 20 Oct 2025) EndedAt: 2025-10-20 03:16:11 -0400 (Mon, 20 Oct 2025) EllapsedTime: 38.6 seconds RetCode: 0 Status: OK PackageFile: ITALICS_2.69.0.tgz PackageFileSize: 554.9 KiB