Package: ITALICS Version: 2.69.0 Command: /Library/Frameworks/R.framework/Resources/bin/R CMD check --install=check:ITALICS.install-out.txt --library=/Library/Frameworks/R.framework/Resources/library --no-vignettes --timings ITALICS_2.69.0.tar.gz StartedAt: 2025-10-19 20:19:33 -0400 (Sun, 19 Oct 2025) EndedAt: 2025-10-19 20:20:42 -0400 (Sun, 19 Oct 2025) EllapsedTime: 69.8 seconds RetCode: 0 Status: OK CheckDir: ITALICS.Rcheck Warnings: 0