Package: ISLET Version: 1.11.0 Command: /Library/Frameworks/R.framework/Resources/bin/R CMD check --install=check:ISLET.install-out.txt --library=/Library/Frameworks/R.framework/Resources/library --no-vignettes --timings ISLET_1.11.0.tar.gz StartedAt: 2025-10-03 22:22:53 -0400 (Fri, 03 Oct 2025) EndedAt: 2025-10-03 22:31:54 -0400 (Fri, 03 Oct 2025) EllapsedTime: 541.3 seconds RetCode: 0 Status: OK CheckDir: ISLET.Rcheck Warnings: 0