Package: IRanges Version: 2.43.5 Command: /home/biocbuild/R/R/bin/R CMD INSTALL IRanges StartedAt: 2025-10-16 21:24:47 -0000 (Thu, 16 Oct 2025) EndedAt: 2025-10-16 21:26:16 -0000 (Thu, 16 Oct 2025) EllapsedTime: 88.4 seconds RetCode: 0 Status: OK