Package: IRanges Version: 2.43.5 Command: /home/biocbuild/R/R/bin/R CMD check --install=check:IRanges.install-out.txt --library=/home/biocbuild/R/R/site-library --no-vignettes --timings IRanges_2.43.5.tar.gz StartedAt: 2025-10-17 10:18:40 -0000 (Fri, 17 Oct 2025) EndedAt: 2025-10-17 10:22:40 -0000 (Fri, 17 Oct 2025) EllapsedTime: 240.2 seconds RetCode: 0 Status: WARNINGS CheckDir: IRanges.Rcheck Warnings: 3