Package: IRanges Version: 2.43.5 Command: /Library/Frameworks/R.framework/Resources/bin/R CMD INSTALL IRanges StartedAt: 2025-10-20 15:07:12 -0400 (Mon, 20 Oct 2025) EndedAt: 2025-10-20 15:07:35 -0400 (Mon, 20 Oct 2025) EllapsedTime: 22.6 seconds RetCode: 0 Status: OK