Package: IRanges Version: 2.43.5 Command: /Library/Frameworks/R.framework/Resources/bin/R CMD check --install=check:IRanges.install-out.txt --library=/Library/Frameworks/R.framework/Resources/library --no-vignettes --timings IRanges_2.43.5.tar.gz StartedAt: 2025-10-20 20:19:36 -0400 (Mon, 20 Oct 2025) EndedAt: 2025-10-20 20:20:37 -0400 (Mon, 20 Oct 2025) EllapsedTime: 60.7 seconds RetCode: 0 Status: WARNINGS CheckDir: IRanges.Rcheck Warnings: 4