Package: IONiseR Version: 2.33.0 Command: chmod a+r IONiseR -R && F:\biocbuild\bbs-3.22-bioc\R\bin\R.exe CMD build --keep-empty-dirs --no-resave-data IONiseR StartedAt: 2025-08-14 20:58:45 -0400 (Thu, 14 Aug 2025) EndedAt: 2025-08-14 21:01:20 -0400 (Thu, 14 Aug 2025) EllapsedTime: 155.4 seconds RetCode: 0 Status: OK PackageFile: IONiseR_2.33.0.tar.gz PackageFileSize: 2.488 MiB