Package: IONiseR Version: 2.34.0 Command: /Library/Frameworks/R.framework/Resources/bin/R CMD check --install=check:IONiseR.install-out.txt --library=/Library/Frameworks/R.framework/Resources/library --no-vignettes --timings IONiseR_2.34.0.tar.gz StartedAt: 2025-10-30 21:48:22 -0400 (Thu, 30 Oct 2025) EndedAt: 2025-10-30 21:53:07 -0400 (Thu, 30 Oct 2025) EllapsedTime: 284.9 seconds RetCode: 0 Status: OK CheckDir: IONiseR.Rcheck Warnings: 0