Package: IONiseR Version: 2.33.0 Command: /Library/Frameworks/R.framework/Resources/bin/R CMD check --install=check:IONiseR.install-out.txt --library=/Library/Frameworks/R.framework/Resources/library --no-vignettes --timings IONiseR_2.33.0.tar.gz StartedAt: 2025-10-27 20:19:06 -0400 (Mon, 27 Oct 2025) EndedAt: 2025-10-27 20:20:54 -0400 (Mon, 27 Oct 2025) EllapsedTime: 107.2 seconds RetCode: 0 Status: OK CheckDir: IONiseR.Rcheck Warnings: 0