Package: IONiseR Version: 2.33.0 Command: /Library/Frameworks/R.framework/Resources/bin/R CMD build --keep-empty-dirs --no-resave-data IONiseR StartedAt: 2025-10-26 16:56:41 -0400 (Sun, 26 Oct 2025) EndedAt: 2025-10-26 16:57:34 -0400 (Sun, 26 Oct 2025) EllapsedTime: 52.5 seconds RetCode: 0 Status: OK PackageFile: IONiseR_2.33.0.tar.gz PackageFileSize: 4.186 MiB