Package: IONiseR Version: 2.33.0 Command: rm -rf IONiseR.buildbin-libdir && mkdir IONiseR.buildbin-libdir && /Users/biocbuild/BBS/utils/build-universal.sh IONiseR_2.33.0.tar.gz /Library/Frameworks/R.framework/Resources/bin/R IONiseR.buildbin-libdir StartedAt: 2025-10-26 22:38:57 -0400 (Sun, 26 Oct 2025) EndedAt: 2025-10-26 22:39:12 -0400 (Sun, 26 Oct 2025) EllapsedTime: 15.3 seconds RetCode: 0 Status: OK PackageFile: IONiseR_2.33.0.tgz PackageFileSize: 4.311 MiB