Package: INTACT Version: 1.10.0 Command: /Library/Frameworks/R.framework/Resources/bin/R CMD INSTALL INTACT StartedAt: 2025-11-10 15:04:56 -0500 (Mon, 10 Nov 2025) EndedAt: 2025-11-10 15:04:58 -0500 (Mon, 10 Nov 2025) EllapsedTime: 2.6 seconds RetCode: 0 Status: OK