Package: INSPEcT Version: 1.39.1 Command: /home/biocbuild/bbs-3.22-bioc/R/bin/R CMD INSTALL INSPEcT StartedAt: 2025-10-20 15:42:09 -0400 (Mon, 20 Oct 2025) EndedAt: 2025-10-20 15:43:10 -0400 (Mon, 20 Oct 2025) EllapsedTime: 60.5 seconds RetCode: 0 Status: OK