Package: INSPEcT Version: 1.39.1 Command: /home/biocbuild/bbs-3.22-bioc/R/bin/R CMD check --install=check:INSPEcT.install-out.txt --library=/home/biocbuild/bbs-3.22-bioc/R/site-library --timings INSPEcT_1.39.1.tar.gz StartedAt: 2025-10-21 00:57:25 -0400 (Tue, 21 Oct 2025) EndedAt: 2025-10-21 01:15:37 -0400 (Tue, 21 Oct 2025) EllapsedTime: 1092.1 seconds RetCode: 0 Status: OK CheckDir: INSPEcT.Rcheck Warnings: 0