Package: INSPEcT Version: 1.39.1 Command: /home/biocbuild/bbs-3.22-bioc/R/bin/R CMD build --keep-empty-dirs --no-resave-data --md5 INSPEcT StartedAt: 2025-10-21 18:14:59 -0400 (Tue, 21 Oct 2025) EndedAt: 2025-10-21 18:22:02 -0400 (Tue, 21 Oct 2025) EllapsedTime: 423.4 seconds RetCode: 0 Status: OK PackageFile: INSPEcT_1.39.1.tar.gz PackageFileSize: 7.751 MiB