Package: INSPEcT Version: 1.39.1 Command: /Library/Frameworks/R.framework/Resources/bin/R CMD INSTALL INSPEcT StartedAt: 2025-10-22 15:39:30 -0400 (Wed, 22 Oct 2025) EndedAt: 2025-10-22 15:40:56 -0400 (Wed, 22 Oct 2025) EllapsedTime: 85.3 seconds RetCode: 0 Status: OK