Package: INSPEcT Version: 1.39.1 Command: /Library/Frameworks/R.framework/Resources/bin/R CMD INSTALL INSPEcT StartedAt: 2025-10-21 15:24:14 -0400 (Tue, 21 Oct 2025) EndedAt: 2025-10-21 15:24:38 -0400 (Tue, 21 Oct 2025) EllapsedTime: 24.0 seconds RetCode: 0 Status: OK