Package: INDEED Version: 2.23.0 Command: /home/biocbuild/R/R/bin/R CMD INSTALL INDEED StartedAt: 2025-10-23 20:29:52 -0000 (Thu, 23 Oct 2025) EndedAt: 2025-10-23 20:30:11 -0000 (Thu, 23 Oct 2025) EllapsedTime: 18.8 seconds RetCode: 0 Status: OK