Package: INDEED Version: 2.23.0 Command: /home/biocbuild/R/R/bin/R CMD build --keep-empty-dirs --no-resave-data INDEED StartedAt: 2025-10-21 00:36:41 -0000 (Tue, 21 Oct 2025) EndedAt: 2025-10-21 00:36:50 -0000 (Tue, 21 Oct 2025) EllapsedTime: 9.0 seconds RetCode: 0 Status: OK PackageFile: INDEED_2.23.0.tar.gz PackageFileSize: 1.882 MiB