Package: INDEED Version: 2.23.0 Command: /home/biocbuild/bbs-3.22-bioc/R/bin/R CMD check --install=check:INDEED.install-out.txt --library=/home/biocbuild/bbs-3.22-bioc/R/site-library --timings INDEED_2.23.0.tar.gz StartedAt: 2025-10-20 01:01:12 -0400 (Mon, 20 Oct 2025) EndedAt: 2025-10-20 01:02:00 -0400 (Mon, 20 Oct 2025) EllapsedTime: 48.0 seconds RetCode: 0 Status: OK CheckDir: INDEED.Rcheck Warnings: 0