Package: INDEED Version: 2.23.0 Command: /Library/Frameworks/R.framework/Resources/bin/R CMD build --keep-empty-dirs --no-resave-data INDEED StartedAt: 2025-10-21 17:45:50 -0400 (Tue, 21 Oct 2025) EndedAt: 2025-10-21 17:47:11 -0400 (Tue, 21 Oct 2025) EllapsedTime: 81.1 seconds RetCode: 0 Status: OK PackageFile: INDEED_2.23.0.tar.gz PackageFileSize: 1.857 MiB