Package: INDEED Version: 2.23.0 Maintainer: Ressom group MaintainerEmail: hwr at georgetown.edu git_url: https://git.bioconductor.org/packages/INDEED git_branch: devel git_last_commit: 2df5aa5 git_last_commit_date: 2025-04-15 11:35:49 -0400 (Tue, 15 Apr 2025)