Package: IMMAN Version: 1.29.0 Command: /home/biocbuild/R/R/bin/R CMD check --install=check:IMMAN.install-out.txt --library=/home/biocbuild/R/R/site-library --no-vignettes --timings IMMAN_1.29.0.tar.gz StartedAt: 2025-10-17 10:13:28 -0000 (Fri, 17 Oct 2025) EndedAt: 2025-10-17 10:22:28 -0000 (Fri, 17 Oct 2025) EllapsedTime: 540.4 seconds RetCode: 0 Status: OK CheckDir: IMMAN.Rcheck Warnings: 0