Package: IMMAN Version: 1.29.0 Command: /home/biocbuild/R/R/bin/R CMD build --keep-empty-dirs --no-resave-data IMMAN StartedAt: 2025-10-17 02:00:20 -0000 (Fri, 17 Oct 2025) EndedAt: 2025-10-17 02:03:28 -0000 (Fri, 17 Oct 2025) EllapsedTime: 188.1 seconds RetCode: 0 Status: OK PackageFile: IMMAN_1.29.0.tar.gz PackageFileSize: 31.34 KiB