Package: IMMAN Version: 1.29.0 Command: /Library/Frameworks/R.framework/Resources/bin/R CMD check --install=check:IMMAN.install-out.txt --library=/Library/Frameworks/R.framework/Resources/library --no-vignettes --timings IMMAN_1.29.0.tar.gz StartedAt: 2025-10-24 21:56:08 -0400 (Fri, 24 Oct 2025) EndedAt: 2025-10-24 22:03:24 -0400 (Fri, 24 Oct 2025) EllapsedTime: 436.3 seconds RetCode: 0 Status: OK CheckDir: IMMAN.Rcheck Warnings: 0